BEGIN:VCALENDAR
PRODID:-//AT Content Types//AT Event//EN
VERSION:2.0
METHOD:PUBLISH
BEGIN:VEVENT
DTSTAMP:20260420T193802Z
CREATED:20170302T113434Z
UID:ATEvent-c5091cbecfc0407d9ac06d3bc5be94b4
LAST-MODIFIED:20170302T113514Z
SUMMARY:CCNL website has been upgraded!
DTSTART:20170302T113500Z
DTEND:20170302T113500Z
DESCRIPTION:The web platform hosting the CCNL website has been upgrade
 d!
CLASS:PUBLIC
END:VEVENT
END:VCALENDAR
